BEGIN:VCALENDAR
VERSION:2.0
PRODID:-//Twin Ports Nightlife//NONSGML kigkonsult.se iCalcreator 2.41.92//
CALSCALE:GREGORIAN
METHOD:PUBLISH
UID:34346363-3661-4762-b030-333061323862
X-WR-CALNAME:iCagenda
X-WR-CALDESC:Event Management Extension for Joomla!
X-WR-RELCALID:3E26604A-50F4-4449-8B3E-E4F4932D05B5
X-WR-TIMEZONE:UTC
BEGIN:VTIMEZONE
TZID:UTC
END:VTIMEZONE
BEGIN:VEVENT
UID:65326333-6437-4363-b637-376137303637
DTSTAMP:20260424T153324Z
CATEGORIES:Live Music
CLASS:PUBLIC
DESCRIPTION;ALTREP="CID:<FFFF__=0ABBE548DFE235B58f9e8a93d@coffeebean.com>":
 Beware the Ides of March...of April!\nThe annual series of freshly made tr
 ibute bands will host its final night (and first All Ages night!) here at 
 Bent Paddle!\n$10 cover goes directly to the artists. Cash only.\n6 PM doo
 rs7 PM Moling Dreams does Iron Butterfly8 PM Ephemera does Evanescence9 PM
  Seeth her? I hardly know her... does Seether
DTSTART:20260424T190000Z
DTEND:20260424T220000Z
GEO:00;0
LOCATION:Bent Paddle Brewing Co
ORGANIZER;CN=:mailto:info@bentpaddlebrewing.com
SEQUENCE:1
SUMMARY:Ides of March of April:  Tributes to Seether\, Evanescence\, and Ir
 on Butterfly
TRANSP:OPAQUE
URL:https://www.twinportsnightlife.com/music/98-ides-of-march-of-april-trib
 utes-to-seether-evanescence-and-iron-butterfly?layout=vcal
END:VEVENT
END:VCALENDAR
